BEGIN:VCALENDAR
VERSION:2.0
PRODID:-//Phoenix du Parvis - ECPv6.15.20//NONSGML v1.0//EN
CALSCALE:GREGORIAN
METHOD:PUBLISH
X-ORIGINAL-URL:https://phoenixduparvis.com
X-WR-CALDESC:Événements pour Phoenix du Parvis
REFRESH-INTERVAL;VALUE=DURATION:PT1H
X-Robots-Tag:noindex
X-PUBLISHED-TTL:PT1H
BEGIN:VTIMEZONE
TZID:America/Montreal
BEGIN:DAYLIGHT
TZOFFSETFROM:-0500
TZOFFSETTO:-0400
TZNAME:EDT
DTSTART:20250309T070000
END:DAYLIGHT
BEGIN:STANDARD
TZOFFSETFROM:-0400
TZOFFSETTO:-0500
TZNAME:EST
DTSTART:20251102T060000
END:STANDARD
BEGIN:DAYLIGHT
TZOFFSETFROM:-0500
TZOFFSETTO:-0400
TZNAME:EDT
DTSTART:20260308T070000
END:DAYLIGHT
BEGIN:STANDARD
TZOFFSETFROM:-0400
TZOFFSETTO:-0500
TZNAME:EST
DTSTART:20261101T060000
END:STANDARD
BEGIN:DAYLIGHT
TZOFFSETFROM:-0500
TZOFFSETTO:-0400
TZNAME:EDT
DTSTART:20270314T070000
END:DAYLIGHT
BEGIN:STANDARD
TZOFFSETFROM:-0400
TZOFFSETTO:-0500
TZNAME:EST
DTSTART:20271107T060000
END:STANDARD
END:VTIMEZONE
BEGIN:VEVENT
DTSTART;TZID=America/Montreal:20260327T180000
DTEND;TZID=America/Montreal:20260327T210000
DTSTAMP:20260424T144122
CREATED:20260224T182051Z
LAST-MODIFIED:20260224T182051Z
UID:10003764-1774634400-1774645200@phoenixduparvis.com
SUMMARY:Dom\, DJ
DESCRIPTION:
URL:https://phoenixduparvis.com/event/dom-dj-8/
CATEGORIES:Musique live
END:VEVENT
BEGIN:VEVENT
DTSTART;TZID=America/Montreal:20260327T210000
DTEND;TZID=America/Montreal:20260328T030000
DTSTAMP:20260424T144122
CREATED:20260130T010525Z
LAST-MODIFIED:20260130T010525Z
UID:10003734-1774645200-1774666800@phoenixduparvis.com
SUMMARY:Sylvain Martel
DESCRIPTION:
URL:https://phoenixduparvis.com/event/sylvain-martel-17/
CATEGORIES:Musique live
END:VEVENT
BEGIN:VEVENT
DTSTART;TZID=America/Montreal:20260327T210000
DTEND;TZID=America/Montreal:20260328T030000
DTSTAMP:20260424T144122
CREATED:20260130T010540Z
LAST-MODIFIED:20260130T010540Z
UID:10003735-1774645200-1774666800@phoenixduparvis.com
SUMMARY:Steff Aubin
DESCRIPTION:
URL:https://phoenixduparvis.com/event/steff-aubin-15/
CATEGORIES:Musique live
END:VEVENT
END:VCALENDAR