BEGIN:VCALENDAR
VERSION:2.0
PRODID:-//Phoenix du Parvis - ECPv6.15.20//NONSGML v1.0//EN
CALSCALE:GREGORIAN
METHOD:PUBLISH
X-WR-CALNAME:Phoenix du Parvis
X-ORIGINAL-URL:https://phoenixduparvis.com
X-WR-CALDESC:Événements pour Phoenix du Parvis
REFRESH-INTERVAL;VALUE=DURATION:PT1H
X-Robots-Tag:noindex
X-PUBLISHED-TTL:PT1H
BEGIN:VTIMEZONE
TZID:America/Montreal
BEGIN:DAYLIGHT
TZOFFSETFROM:-0500
TZOFFSETTO:-0400
TZNAME:EDT
DTSTART:20250309T070000
END:DAYLIGHT
BEGIN:STANDARD
TZOFFSETFROM:-0400
TZOFFSETTO:-0500
TZNAME:EST
DTSTART:20251102T060000
END:STANDARD
BEGIN:DAYLIGHT
TZOFFSETFROM:-0500
TZOFFSETTO:-0400
TZNAME:EDT
DTSTART:20260308T070000
END:DAYLIGHT
BEGIN:STANDARD
TZOFFSETFROM:-0400
TZOFFSETTO:-0500
TZNAME:EST
DTSTART:20261101T060000
END:STANDARD
BEGIN:DAYLIGHT
TZOFFSETFROM:-0500
TZOFFSETTO:-0400
TZNAME:EDT
DTSTART:20270314T070000
END:DAYLIGHT
BEGIN:STANDARD
TZOFFSETFROM:-0400
TZOFFSETTO:-0500
TZNAME:EST
DTSTART:20271107T060000
END:STANDARD
END:VTIMEZONE
BEGIN:VEVENT
DTSTART;TZID=America/Montreal:20260328T190000
DTEND;TZID=America/Montreal:20260328T210000
DTSTAMP:20260424T131329
CREATED:20260130T004925Z
LAST-MODIFIED:20260312T192054Z
UID:10003704-1774724400-1774731600@phoenixduparvis.com
SUMMARY:Justin Coste
DESCRIPTION:
URL:https://phoenixduparvis.com/event/dom-dj-7/
CATEGORIES:Musique live
END:VEVENT
BEGIN:VEVENT
DTSTART;TZID=America/Montreal:20260328T210000
DTEND;TZID=America/Montreal:20260329T030000
DTSTAMP:20260424T131329
CREATED:20260130T010553Z
LAST-MODIFIED:20260130T010553Z
UID:10003736-1774731600-1774753200@phoenixduparvis.com
SUMMARY:Sylvain Martel
DESCRIPTION:
URL:https://phoenixduparvis.com/event/sylvain-martel-18/
CATEGORIES:Musique live
END:VEVENT
BEGIN:VEVENT
DTSTART;TZID=America/Montreal:20260328T210000
DTEND;TZID=America/Montreal:20260329T030000
DTSTAMP:20260424T131329
CREATED:20260130T010610Z
LAST-MODIFIED:20260130T010610Z
UID:10003737-1774731600-1774753200@phoenixduparvis.com
SUMMARY:Steff Aubin
DESCRIPTION:
URL:https://phoenixduparvis.com/event/steff-aubin-16/
CATEGORIES:Musique live
END:VEVENT
END:VCALENDAR